BEGIN:VCALENDAR
VERSION:2.0
PRODID:-//CryptoGuard AB - ECPv6.15.20//NONSGML v1.0//EN
CALSCALE:GREGORIAN
METHOD:PUBLISH
X-WR-CALNAME:CryptoGuard AB
X-ORIGINAL-URL:https://www.cryptoguard.com
X-WR-CALDESC:Events for CryptoGuard AB
REFRESH-INTERVAL;VALUE=DURATION:PT1H
X-Robots-Tag:noindex
X-PUBLISHED-TTL:PT1H
BEGIN:VTIMEZONE
TZID:Europe/London
BEGIN:DAYLIGHT
TZOFFSETFROM:+0000
TZOFFSETTO:+0100
TZNAME:BST
DTSTART:20220327T010000
END:DAYLIGHT
BEGIN:STANDARD
TZOFFSETFROM:+0100
TZOFFSETTO:+0000
TZNAME:GMT
DTSTART:20221030T010000
END:STANDARD
BEGIN:DAYLIGHT
TZOFFSETFROM:+0000
TZOFFSETTO:+0100
TZNAME:BST
DTSTART:20230326T010000
END:DAYLIGHT
BEGIN:STANDARD
TZOFFSETFROM:+0100
TZOFFSETTO:+0000
TZNAME:GMT
DTSTART:20231029T010000
END:STANDARD
BEGIN:DAYLIGHT
TZOFFSETFROM:+0000
TZOFFSETTO:+0100
TZNAME:BST
DTSTART:20240331T010000
END:DAYLIGHT
BEGIN:STANDARD
TZOFFSETFROM:+0100
TZOFFSETTO:+0000
TZNAME:GMT
DTSTART:20241027T010000
END:STANDARD
END:VTIMEZONE
BEGIN:VEVENT
DTSTART;VALUE=DATE:20230607
DTEND;VALUE=DATE:20230610
DTSTAMP:20260419T150928
CREATED:20210420T082328Z
LAST-MODIFIED:20230130T092517Z
UID:2096-1686096000-1686355199@www.cryptoguard.com
SUMMARY:CommunicAsia 7-9 June 2023
DESCRIPTION:Meet us at stand 4G3-09\nCommunicAsia is recognized as Asia’s leading ICT industry event for the telecommunications sector. Into its 30-year edition\, CommunicAsia continues to be Asia’s key international Information and Communication Technology trade event. The event consistently delivers a highly relevant show experience for ISPs\, Satellite Operators\, System Integrators\, Mobile Operators amongst many others in Asia. CommunicAsia is Asia’s most established and relevant event for industry professionals in the telecommunications sector and will bring together thought-leaders\, decision-makers and influencers to network\, explore new technologies\, share ideas and create valuable opportunities.
URL:https://www.cryptoguard.com/event/communicasia-7-9-june-2023/
LOCATION:Singapore EXPO\, 1 Expo Drive\, Singapore\, 486150\, Singapore
CATEGORIES:Exhibition
ATTACH;FMTTYPE=image/jpeg:https://www.cryptoguard.com/wp-content/uploads/2021/03/Singapore-CommunicAsia-city-logo-1024x698-1.jpg
END:VEVENT
END:VCALENDAR