BEGIN:VCALENDAR
VERSION:2.0
PRODID:-//CryptoGuard AB - ECPv6.15.20//NONSGML v1.0//EN
CALSCALE:GREGORIAN
METHOD:PUBLISH
X-WR-CALNAME:CryptoGuard AB
X-ORIGINAL-URL:https://www.cryptoguard.com
X-WR-CALDESC:Events for CryptoGuard AB
REFRESH-INTERVAL;VALUE=DURATION:PT1H
X-Robots-Tag:noindex
X-PUBLISHED-TTL:PT1H
BEGIN:VTIMEZONE
TZID:Europe/Stockholm
BEGIN:DAYLIGHT
TZOFFSETFROM:+0100
TZOFFSETTO:+0200
TZNAME:CEST
DTSTART:20250330T010000
END:DAYLIGHT
BEGIN:STANDARD
TZOFFSETFROM:+0200
TZOFFSETTO:+0100
TZNAME:CET
DTSTART:20251026T010000
END:STANDARD
BEGIN:DAYLIGHT
TZOFFSETFROM:+0100
TZOFFSETTO:+0200
TZNAME:CEST
DTSTART:20260329T010000
END:DAYLIGHT
BEGIN:STANDARD
TZOFFSETFROM:+0200
TZOFFSETTO:+0100
TZNAME:CET
DTSTART:20261025T010000
END:STANDARD
BEGIN:DAYLIGHT
TZOFFSETFROM:+0100
TZOFFSETTO:+0200
TZNAME:CEST
DTSTART:20270328T010000
END:DAYLIGHT
BEGIN:STANDARD
TZOFFSETFROM:+0200
TZOFFSETTO:+0100
TZNAME:CET
DTSTART:20271031T010000
END:STANDARD
END:VTIMEZONE
BEGIN:VEVENT
DTSTART;VALUE=DATE:20261117
DTEND;VALUE=DATE:20261120
DTSTAMP:20260420T155811
CREATED:20260324T145118Z
LAST-MODIFIED:20260324T145118Z
UID:9449-1794873600-1795132799@www.cryptoguard.com
SUMMARY:Africa Tech Festival\, 17-19 November 2026
DESCRIPTION:Africa Tech Festival is where the continent’s digital economy comes together. Over four days in Cape Town\, telecom operators\, cloud providers\, startups\, investors\, policymakers and enterprise technology leaders meet to shape the next phase of Africa’s digital growth. Whether you are building infrastructure\, scaling enterprise technology\, investing in innovation or shaping policy\, Africa Tech Festival connects the people and ideas driving the continent forward.
URL:https://www.cryptoguard.com/event/africa-tech-festival-17-19-november-2026/
LOCATION:CTICC (Cape Town International Convention Centre)\, 1 Lower Long Street\, Cape Town\, 8001\, South Africa
CATEGORIES:Exhibition
ATTACH;FMTTYPE=image/png:https://www.cryptoguard.com/wp-content/uploads/2025/10/ATF_2025_Event.png
END:VEVENT
END:VCALENDAR